BEGIN:VCALENDAR
VERSION:2.0
PRODID:-//Sri Palee Campus
CALSCALE:GREGORIAN
METHOD:PUBLISH
X-WR-CALNAME:Sri Palee Campus
X-ORIGINAL-URL:https://spc.cmb.ac.lk/event/world-scout-day/
X-WR-CALDESC:World Scout Day
BEGIN:VEVENT
DTSTART:20220222T180000
DTEND:20220222T200000
SUMMARY:World Scout Day
DESCRIPTION:
LOCATION:
END:VEVENT
END:VCALENDAR
