BEGIN:VCALENDAR
VERSION:2.0
PRODID:-//Sri Palee Campus
CALSCALE:GREGORIAN
METHOD:PUBLISH
X-WR-CALNAME:Sri Palee Campus
X-ORIGINAL-URL:https://spc.cmb.ac.lk/event/international-research-symposium-irs/
X-WR-CALDESC:International Research Symposium (IRS)
BEGIN:VEVENT
DTSTART:20210219T090000
DTEND:20210219T180000
SUMMARY:International Research Symposium (IRS)
DESCRIPTION:
LOCATION:Sri Palee Campus, University of Colombo 
END:VEVENT
END:VCALENDAR
